BEGIN:VCALENDAR
VERSION:2.0
PRODID:-//CALS//EN
BEGIN:VEVENT
UID:b1198c96206bbe4b4541513675a13160
DTSTART:20260420T095000
DTEND:20260420T105000
SUMMARY:Research Peer Leader Drop-In Hours
DESCRIPTION:Research Peer Leaders are here for you—no appointment needed!Stop by in-person or via Zoom to ask questions\, chat about research opportunities and resources\, and hear about their research experiences.New! Remote Drop-In Hours:Meet with a Peer Leader via Zoom during the hours listed. Click here to start your Zoom session.
LOCATION:CALS Student Center (25 Ag Hall)
END:VEVENT
END:VCALENDAR
