BEGIN:VCALENDAR
VERSION:2.0
PRODID:-//CALS//EN
BEGIN:VEVENT
UID:45b08fab99e285ab3191c08a86827fb8
DTSTART:20260421T110000
DTEND:20260421T120000
SUMMARY:Research Peer Leader Drop-In Hours
DESCRIPTION:Research Peer Leaders are here for you—no appointment needed!Stop by in-person or via Zoom to ask questions\, chat about research opportunities and resources\, and hear about their research experiences.New! Remote Drop-In Hours:Meet with a Peer Leader via Zoom during the hours listed. Click here to start your Zoom session.
LOCATION:CALS Student Center (25 Ag Hall)
END:VEVENT
END:VCALENDAR
