BEGIN:VCALENDAR
VERSION:2.0
PRODID:-//CALS//EN
BEGIN:VEVENT
UID:dcd8c27beb78bfe5b60cabbba26543d9
DTSTART:20260423T173000
DTEND:20260423T183000
SUMMARY:Research Peer Leader Drop-In Hours
DESCRIPTION:Research Peer Leaders are here for you—no appointment needed!Stop by in-person or via Zoom to ask questions\, chat about research opportunities and resources\, and hear about their research experiences.New! Remote Drop-In Hours:Meet with a Peer Leader via Zoom during the hours listed. Click here to start your Zoom session.
LOCATION:CALS Student Center (25 Ag Hall)
END:VEVENT
END:VCALENDAR
